BEGIN:VCALENDAR
VERSION:2.0
PRODID:-//Loras College - ECPv6.15.20//NONSGML v1.0//EN
CALSCALE:GREGORIAN
METHOD:PUBLISH
X-ORIGINAL-URL:https://loras.edu
X-WR-CALDESC:Events for Loras College
REFRESH-INTERVAL;VALUE=DURATION:PT1H
X-Robots-Tag:noindex
X-PUBLISHED-TTL:PT1H
BEGIN:VTIMEZONE
TZID:America/Chicago
BEGIN:DAYLIGHT
TZOFFSETFROM:-0600
TZOFFSETTO:-0500
TZNAME:CDT
DTSTART:20250309T080000
END:DAYLIGHT
BEGIN:STANDARD
TZOFFSETFROM:-0500
TZOFFSETTO:-0600
TZNAME:CST
DTSTART:20251102T070000
END:STANDARD
BEGIN:DAYLIGHT
TZOFFSETFROM:-0600
TZOFFSETTO:-0500
TZNAME:CDT
DTSTART:20260308T080000
END:DAYLIGHT
BEGIN:STANDARD
TZOFFSETFROM:-0500
TZOFFSETTO:-0600
TZNAME:CST
DTSTART:20261101T070000
END:STANDARD
BEGIN:DAYLIGHT
TZOFFSETFROM:-0600
TZOFFSETTO:-0500
TZNAME:CDT
DTSTART:20270314T080000
END:DAYLIGHT
BEGIN:STANDARD
TZOFFSETFROM:-0500
TZOFFSETTO:-0600
TZNAME:CST
DTSTART:20271107T070000
END:STANDARD
END:VTIMEZONE
BEGIN:VEVENT
DTSTART;TZID=America/Chicago:20260401T173000
DTEND;TZID=America/Chicago:20260401T193000
DTSTAMP:20260422T111923
CREATED:20260311T210607Z
LAST-MODIFIED:20260312T222215Z
UID:68720-1775064600-1775071800@loras.edu
SUMMARY:Football Social - Wheaton\, IL
DESCRIPTION:Join us for a Football Alumni Social to meet new head football coach\, Coach Brandon Novak\, and the coaching staff.  Enjoy the opportunity reunite\, reconnect with the program\, and spend time with fellow alumni\, families\, coaches\, and friends of the program. \nWednesday\, April 1 \n5:30 – 7:30pm \nDough/The Backyard \n111 E. Front St.\nWheaton\, IL \nThank you to Roger Cummings (’89) for helping to plan and gather Duhawks! \n 
URL:https://loras.edu/event/chifb/
LOCATION:IA
CATEGORIES:Alumni,Athletics
ATTACH;FMTTYPE=image/jpeg:https://loras.edu/wp-content/uploads/LOR_OF_53468-scaled.jpg
ORGANIZER;CN="Loras Alumni":MAILTO:alumni@loras.edu
END:VEVENT
END:VCALENDAR